BEGIN:VCALENDAR
VERSION:2.0
PRODID:-//International Dance Academy - ECPv6.15.20//NONSGML v1.0//EN
CALSCALE:GREGORIAN
METHOD:PUBLISH
X-WR-CALNAME:International Dance Academy
X-ORIGINAL-URL:https://idaballet.com
X-WR-CALDESC:Events for International Dance Academy
REFRESH-INTERVAL;VALUE=DURATION:PT1H
X-Robots-Tag:noindex
X-PUBLISHED-TTL:PT1H
BEGIN:VTIMEZONE
TZID:America/New_York
BEGIN:DAYLIGHT
TZOFFSETFROM:-0500
TZOFFSETTO:-0400
TZNAME:EDT
DTSTART:20250309T070000
END:DAYLIGHT
BEGIN:STANDARD
TZOFFSETFROM:-0400
TZOFFSETTO:-0500
TZNAME:EST
DTSTART:20251102T060000
END:STANDARD
BEGIN:DAYLIGHT
TZOFFSETFROM:-0500
TZOFFSETTO:-0400
TZNAME:EDT
DTSTART:20260308T070000
END:DAYLIGHT
BEGIN:STANDARD
TZOFFSETFROM:-0400
TZOFFSETTO:-0500
TZNAME:EST
DTSTART:20261101T060000
END:STANDARD
BEGIN:DAYLIGHT
TZOFFSETFROM:-0500
TZOFFSETTO:-0400
TZNAME:EDT
DTSTART:20270314T070000
END:DAYLIGHT
BEGIN:STANDARD
TZOFFSETFROM:-0400
TZOFFSETTO:-0500
TZNAME:EST
DTSTART:20271107T060000
END:STANDARD
END:VTIMEZONE
BEGIN:VEVENT
DTSTART;VALUE=DATE:20260507
DTEND;VALUE=DATE:20260508
DTSTAMP:20260419T213638
CREATED:20260227T004856Z
LAST-MODIFIED:20260227T004856Z
UID:4670-1778112000-1778198399@idaballet.com
SUMMARY:Spring Show Rehersal
DESCRIPTION:
URL:https://idaballet.com/event/rehersal_springshow/
LOCATION:International Dance Academy\, 825 Shotgun Rd\,\, Sunrise\, FL\, 33331\, United States
ATTACH;FMTTYPE=image/png:https://idaballet.com/wp-content/uploads/2026/02/spring.png
ORGANIZER;CN="International Dance Academy & International Ballet Company":MAILTO:frontdesk@idaballet.com
END:VEVENT
BEGIN:VEVENT
DTSTART;VALUE=DATE:20260508
DTEND;VALUE=DATE:20260510
DTSTAMP:20260419T213638
CREATED:20260227T004950Z
LAST-MODIFIED:20260227T004950Z
UID:4672-1778198400-1778371199@idaballet.com
SUMMARY:Spring Show
DESCRIPTION:
URL:https://idaballet.com/event/spring-show/
LOCATION:FL
ATTACH;FMTTYPE=image/png:https://idaballet.com/wp-content/uploads/2026/02/spring2.png
END:VEVENT
BEGIN:VEVENT
DTSTART;VALUE=DATE:20260525
DTEND;VALUE=DATE:20260526
DTSTAMP:20260419T213638
CREATED:20260227T005102Z
LAST-MODIFIED:20260227T005102Z
UID:4674-1779667200-1779753599@idaballet.com
SUMMARY:Closed for Memorial Day
DESCRIPTION:
URL:https://idaballet.com/event/closed-for-memorial-day/
LOCATION:FL
ATTACH;FMTTYPE=image/png:https://idaballet.com/wp-content/uploads/2026/02/may-25th-2026.png
END:VEVENT
BEGIN:VEVENT
DTSTART;VALUE=DATE:20260615
DTEND;VALUE=DATE:20260711
DTSTAMP:20260419T213638
CREATED:20260414T154242Z
LAST-MODIFIED:20260414T154242Z
UID:4692-1781481600-1783727999@idaballet.com
SUMMARY:
DESCRIPTION:IDA SUMMER Program 2026 \nLooking to elevate your dancer’s technique this summer? \nIDA’s Summer Program 2026 is the best summer option for ballet enthusiasts and advanced students alike. \nA dynamic 4-week intensive designed to challenge\, inspire\, and grow every dancer. \nRunning June 15 – July 10\, students will train in Ballet\, Pointe\, Variations\, Partnering\, Contemporary\, Jazz\, Conditioning\, and PBT with IDA’s expert faculty. \nAdvanced Level: 9:00 AM – 1:00 PM | All Levels: 9:00 AM – 4:00 PM. \nServing Weston\, Sunrise\, Davie\, Pembroke Pines\, Cooper City\, Miramar and more! \nRegister at idaballet.com or email frontdesk@idaballet.com.
URL:https://idaballet.com/event/4692/
LOCATION:International Dance Academy\, 825 Shotgun Rd\,\, Sunrise\, FL\, 33331\, United States
ATTACH;FMTTYPE=image/png:https://idaballet.com/wp-content/uploads/2026/04/IDA-SUMMER-2026-2-scaled.png
ORGANIZER;CN="International Dance Academy & International Ballet Company":MAILTO:frontdesk@idaballet.com
END:VEVENT
END:VCALENDAR